BEGIN:VCALENDAR
VERSION:2.0
PRODID:-//Humane Society of Broward County - ECPv6.15.11//NONSGML v1.0//EN
CALSCALE:GREGORIAN
METHOD:PUBLISH
X-WR-CALNAME:Humane Society of Broward County
X-ORIGINAL-URL:https://humanebroward.com
X-WR-CALDESC:Events for Humane Society of Broward County
REFRESH-INTERVAL;VALUE=DURATION:PT1H
X-Robots-Tag:noindex
X-PUBLISHED-TTL:PT1H
BEGIN:VTIMEZONE
TZID:America/New_York
BEGIN:DAYLIGHT
TZOFFSETFROM:-0500
TZOFFSETTO:-0400
TZNAME:EDT
DTSTART:20210314T070000
END:DAYLIGHT
BEGIN:STANDARD
TZOFFSETFROM:-0400
TZOFFSETTO:-0500
TZNAME:EST
DTSTART:20211107T060000
END:STANDARD
BEGIN:DAYLIGHT
TZOFFSETFROM:-0500
TZOFFSETTO:-0400
TZNAME:EDT
DTSTART:20220313T070000
END:DAYLIGHT
BEGIN:STANDARD
TZOFFSETFROM:-0400
TZOFFSETTO:-0500
TZNAME:EST
DTSTART:20221106T060000
END:STANDARD
BEGIN:DAYLIGHT
TZOFFSETFROM:-0500
TZOFFSETTO:-0400
TZNAME:EDT
DTSTART:20230312T070000
END:DAYLIGHT
BEGIN:STANDARD
TZOFFSETFROM:-0400
TZOFFSETTO:-0500
TZNAME:EST
DTSTART:20231105T060000
END:STANDARD
END:VTIMEZONE
BEGIN:VEVENT
DTSTART;TZID=America/New_York:20221107T110000
DTEND;TZID=America/New_York:20221113T173000
DTSTAMP:20260421T090447
CREATED:20221104T205850Z
LAST-MODIFIED:20221104T210127Z
UID:53515-1667818800-1668360600@humanebroward.com
SUMMARY:Adoption Special in Honor of Veterans
DESCRIPTION:  \nMonday\, November 7 – Sunday November 13th \nThe Humane Society of Broward County has many amazing pets waiting to be adopted. In honor of Veteran’s Day pets one year of age and older will be half price for any adopter.  That’s a $75 savings on dog adoption fees and $20 savings for cats! You don’t have to be a member of the military to take advantage of this adoption special. \nWhen you adopt from the Humane Society of Broward County all pets are spayed or neutered before going home. In addition\, they receive preliminary vaccinations\, a microchip\, heartworm test for dogs over seven months\, feline leukemia test for cats\, a limited 14-day health care plan courtesy of VCA Animal Hospitals\, a bag of Purina ONE food (while supplies last) and more. For more information call the shelter today at 954-989-3977 ext. 6. The HSBC is located at 2070 Griffin Road\, Fort Lauderdale – just a block west of I-95 and opens daily at 11:00 a.m. To see who needs a home visit www.humanebroward.com. Appointments are not necessary however\, in you would like to meet a pet a pre-adoption application must be completed on the website. \nThe Humane Society of Broward County is a private non-profit organization made possible by generous donations from animal enthusiasts like you. The shelter is not affiliated with any other animal welfare organization and receives no funding from them or the state.
URL:https://humanebroward.com/event/adoption-special-in-honor-of-veterans/
LOCATION:Humane Society of Broward County\, 2070 Griffin Road\, Fort Lauderdale\, FL\, 33312\, United States
ATTACH;FMTTYPE=image/jpeg:https://humanebroward.com/wp-content/uploads/2022/11/Goose-A660499-scaled.jpg
END:VEVENT
END:VCALENDAR