BEGIN:VCALENDAR
VERSION:2.0
PRODID:-//Humane Society of Broward County - ECPv6.15.11//NONSGML v1.0//EN
CALSCALE:GREGORIAN
METHOD:PUBLISH
X-WR-CALNAME:Humane Society of Broward County
X-ORIGINAL-URL:https://humanebroward.com
X-WR-CALDESC:Events for Humane Society of Broward County
REFRESH-INTERVAL;VALUE=DURATION:PT1H
X-Robots-Tag:noindex
X-PUBLISHED-TTL:PT1H
BEGIN:VTIMEZONE
TZID:America/New_York
BEGIN:DAYLIGHT
TZOFFSETFROM:-0500
TZOFFSETTO:-0400
TZNAME:EDT
DTSTART:20220313T070000
END:DAYLIGHT
BEGIN:STANDARD
TZOFFSETFROM:-0400
TZOFFSETTO:-0500
TZNAME:EST
DTSTART:20221106T060000
END:STANDARD
BEGIN:DAYLIGHT
TZOFFSETFROM:-0500
TZOFFSETTO:-0400
TZNAME:EDT
DTSTART:20230312T070000
END:DAYLIGHT
BEGIN:STANDARD
TZOFFSETFROM:-0400
TZOFFSETTO:-0500
TZNAME:EST
DTSTART:20231105T060000
END:STANDARD
BEGIN:DAYLIGHT
TZOFFSETFROM:-0500
TZOFFSETTO:-0400
TZNAME:EDT
DTSTART:20240310T070000
END:DAYLIGHT
BEGIN:STANDARD
TZOFFSETFROM:-0400
TZOFFSETTO:-0500
TZNAME:EST
DTSTART:20241103T060000
END:STANDARD
END:VTIMEZONE
BEGIN:VEVENT
DTSTART;TZID=America/New_York:20231209T110000
DTEND;TZID=America/New_York:20231210T140000
DTSTAMP:20260422T211618
CREATED:20231113T191507Z
LAST-MODIFIED:20231113T191901Z
UID:95760-1702119600-1702216800@humanebroward.com
SUMMARY:Ralphie's Holiday Shop
DESCRIPTION:  \nOn December 9th and December 10th from 11:00 AM to 2:00 PM\, the Humane Society of Broward County will host a shopping kid’s event at 2070 Griffin Road. On Saturday the 9th\, there will be a special opportunity to take holiday photos with some of our adorable therapy dogs.  \nGifts from $1 to $20 are available for the whole family\, including your four-legged friends. All of the proceeds go to help the homeless animals in our care. \nEMAIL FOR ADDITIONAL INFORMATION \n 
URL:https://humanebroward.com/event/holidayshop2023/
LOCATION:Humane Society of Broward County\, 2070 Griffin Road\, Fort Lauderdale\, FL\, 33312\, United States
ATTACH;FMTTYPE=image/png:https://humanebroward.com/wp-content/uploads/2023/11/2023-Holiday-Shop-Flyer.png
END:VEVENT
END:VCALENDAR