BEGIN:VCALENDAR
VERSION:2.0
PRODID:-//Humane Society of Broward County - ECPv6.15.11//NONSGML v1.0//EN
CALSCALE:GREGORIAN
METHOD:PUBLISH
X-WR-CALNAME:Humane Society of Broward County
X-ORIGINAL-URL:https://humanebroward.com
X-WR-CALDESC:Events for Humane Society of Broward County
REFRESH-INTERVAL;VALUE=DURATION:PT1H
X-Robots-Tag:noindex
X-PUBLISHED-TTL:PT1H
BEGIN:VTIMEZONE
TZID:America/New_York
BEGIN:DAYLIGHT
TZOFFSETFROM:-0500
TZOFFSETTO:-0400
TZNAME:EDT
DTSTART:20210314T070000
END:DAYLIGHT
BEGIN:STANDARD
TZOFFSETFROM:-0400
TZOFFSETTO:-0500
TZNAME:EST
DTSTART:20211107T060000
END:STANDARD
BEGIN:DAYLIGHT
TZOFFSETFROM:-0500
TZOFFSETTO:-0400
TZNAME:EDT
DTSTART:20220313T070000
END:DAYLIGHT
BEGIN:STANDARD
TZOFFSETFROM:-0400
TZOFFSETTO:-0500
TZNAME:EST
DTSTART:20221106T060000
END:STANDARD
BEGIN:DAYLIGHT
TZOFFSETFROM:-0500
TZOFFSETTO:-0400
TZNAME:EDT
DTSTART:20230312T070000
END:DAYLIGHT
BEGIN:STANDARD
TZOFFSETFROM:-0400
TZOFFSETTO:-0500
TZNAME:EST
DTSTART:20231105T060000
END:STANDARD
END:VTIMEZONE
BEGIN:VEVENT
DTSTART;TZID=America/New_York:20221203T110000
DTEND;TZID=America/New_York:20221203T150000
DTSTAMP:20260423T151720
CREATED:20221108T211835Z
LAST-MODIFIED:20221108T212503Z
UID:54146-1670065200-1670079600@humanebroward.com
SUMMARY:Ralphie's Holiday Shop
DESCRIPTION:The Ralphie’s Kids Club invite you to join them at the\nHumane Society of Broward County for a fantastic holiday shopping event! \nRalphie’s Holiday Shop\nSaturday\, December 3\n11:00 a.m. – 3:00 p.m.\nFor a printable flyer\, click here. \nCome buy gifts for all your family\, friends\, and pets! Gifts will range from $1 to $20.  \nThis is a shopping event for children\, but adults are welcome to shop too! \nAll proceeds will benefit the shelter pets at the\nHumane Society of Broward County\nthrough the VCA Walk for the Animals 2023. \nFor more information\, please call 954-266-6848\n2070 Griffin Road\, Fort Lauderdale\, FL 33312
URL:https://humanebroward.com/event/ralphies-holiday-shop/
LOCATION:The Humane Society of Broward County\, 2070 Griffin Road\, Fort Lauderdale\, 33312\, United States
CATEGORIES:Community
ATTACH;FMTTYPE=image/png:https://humanebroward.com/wp-content/uploads/2022/11/Holiday.png
ORGANIZER;CN="Caroline Crane":MAILTO:ccrane@hsbroward.com
END:VEVENT
END:VCALENDAR